BEGIN:VCALENDAR
VERSION:2.0
METHOD:PUBLISH
BEGIN:VEVENT
DTSTART:20250710T173000
DTEND:20250925T190000
LOCATION:Burke City Park
TRANSP: OPAQUE
SEQUENCE:0
UID:
DTSTAMP:20260419T101039
SUMMARY:Burke Area Farmers Market
DESCRIPTION:July 10th - September 25thSouth Dakota's #1 Rated Farmer's Market is back for the season!&nbsp;Every Thursday in the little town of Burke come see what&rsquo;s new&mdash;fresh produce, handmade goods, amazing food vendors, family activities, and that unbeatable community vibe. This weekly farmers market is held in the city park.&nbsp;Follow the Burke Area Marmers Market Facebook Page to learn more!
PRIORITY:1
CLASS:PUBLIC
BEGIN:VALARM
TZOFFSETTO:-0600
ACTION:DISPLAY
DESCRIPTION:Reminder
END:VALARM
END:VEVENT
END:VCALENDAR
