BEGIN:VCALENDAR
VERSION:2.0
METHOD:PUBLISH
BEGIN:VEVENT
DTSTART:20260717T193000
DTEND:20260719T220000
LOCATION:Burke, SD
TRANSP: OPAQUE
SEQUENCE:0
UID:
DTSTAMP:20260419T121749
SUMMARY:Burke Stampede Rodeo
DESCRIPTION:Feel the rumble of the chutes as they load the broncs and bulls. Taste the legendary roast beef sandwiches from the cook shack. LOL at the antics that our PRCA clown will bring to the arena. And meet friends old and new at the South Central South Dakota staple, the Burke Stampede Rodeo.Updates on Facebook.
PRIORITY:1
CLASS:PUBLIC
BEGIN:VALARM
TZOFFSETTO:-0600
ACTION:DISPLAY
DESCRIPTION:Reminder
END:VALARM
END:VEVENT
END:VCALENDAR
