BEGIN:VCALENDAR
VERSION:2.0
METHOD:PUBLISH
BEGIN:VEVENT
DTSTART:20260612T160000
DTEND:20260613T230000
LOCATION:Mobridge, SD
TRANSP: OPAQUE
SEQUENCE:0
UID:
DTSTAMP:20260419T113908
SUMMARY:Denny Palmer Memorial Walleye Classic
DESCRIPTION:Rules meeting June 12th at The Scherr-Howe Event CenterAll participants must have completed, signed, and returned the official &ldquo;Denny Palmer Memorial&rdquo; entry form along with proper entry fee (see below). All participants must have a valid fishing license, produce it upon request and follow all state and federal regulations for the waters they fish. All participants must be 18 years of age, unless accompanied by a parent or legal guardian.Team Registration: online registration by 5:00 pm on June 11Entry Fee: $350.00/Two or three person team prior to May 31, 2026 @ 5:00pmEntry Fee: $400.00/Two or three person team after May 31, 2026 @ 5:00pm &nbsp;&nbsp;There are no refunds once confirmed in an event, no exceptions. All entries will be based on date/time they were marked completed and paid.Rules Meeting Attendance: It is mandatory that at least one team member must attend rules meeting. &nbsp;Each contestant will receive entry verification with dates, times, and location for rules meeting. Contestants who are not present at rules meeting may forfeit their entry fee and not be eligible to fish the tournament.
PRIORITY:1
CLASS:PUBLIC
BEGIN:VALARM
TZOFFSETTO:-0600
ACTION:DISPLAY
DESCRIPTION:Reminder
END:VALARM
END:VEVENT
END:VCALENDAR
