BEGIN:VCALENDAR
VERSION:2.0
METHOD:PUBLISH
BEGIN:VEVENT
DTSTART:20261003T190000
DTEND:20261004T220000
LOCATION:Stanley County Fairgrounds
TRANSP: OPAQUE
SEQUENCE:0
UID:
DTSTAMP:20260419T115040
SUMMARY:Fort Pierre Horse Racing
DESCRIPTION:Horse races happen annually in Fort Pierre. See their Facebook page for updates.
PRIORITY:1
CLASS:PUBLIC
BEGIN:VALARM
TZOFFSETTO:-0600
ACTION:DISPLAY
DESCRIPTION:Reminder
END:VALARM
END:VEVENT
END:VCALENDAR
