BEGIN:VCALENDAR
VERSION:2.0
METHOD:PUBLISH
BEGIN:VEVENT
DTSTART:20260807T160000
DTEND:20260808T000000
LOCATION:Fischers Lilly Park &amp; Deadwood Street
TRANSP: OPAQUE
SEQUENCE:0
UID:
DTSTAMP:20260419T134652
SUMMARY:Fort Pierre Trader Days
DESCRIPTION:Follow the Fort Pierre Trader Days Facebook Page to see the full schedule of events!Head to Fort Pierre the second weekend of August for the annual Fort Pierre Trader Days &amp; Turkey Races plus Backyard BBQ Competition. Enjoy a carnival, music, children's activities, an arts and crafts show, mud wrestling, and more. Most events are at Fischers Lilly Park and downtown Fort Pierre. Activities start Friday afternoon and run through midnight on Saturday.
PRIORITY:1
CLASS:PUBLIC
BEGIN:VALARM
TZOFFSETTO:-0600
ACTION:DISPLAY
DESCRIPTION:Reminder
END:VALARM
END:VEVENT
END:VCALENDAR
