BEGIN:VCALENDAR
VERSION:2.0
METHOD:PUBLISH
BEGIN:VEVENT
DTSTART:20260926T083000
DTEND:20260926T230000
LOCATION:Main Street Platte, SD
TRANSP: OPAQUE
SEQUENCE:0
UID:
DTSTAMP:20260419T120643
SUMMARY:HayDaze
DESCRIPTION:The 4th annual HayDaze festival will be Saturday, September 26th, 2026! We hope you're just as excited as us for another great day of live music, kids games, yummy food, and so much more! This is a&nbsp;fall festival for the whole family! All kinds of activities and events will be happening starting with the HayDaze Hustle 5K and ending with a street dance with an awesome live band!
PRIORITY:1
CLASS:PUBLIC
BEGIN:VALARM
TZOFFSETTO:-0600
ACTION:DISPLAY
DESCRIPTION:Reminder
END:VALARM
END:VEVENT
END:VCALENDAR
