BEGIN:VCALENDAR
VERSION:2.0
METHOD:PUBLISH
BEGIN:VEVENT
DTSTART:20260619T180000
DTEND:20260621T120000
LOCATION:Highmore, SD
TRANSP: OPAQUE
SEQUENCE:0
UID:
DTSTAMP:20260419T115106
SUMMARY:Highmore Old Settlers&#039; Days
DESCRIPTION:The Community of Highmore holds Old Settlers' Days every year on the third weekend of June. Old Settlers' Days is a bonanza of different events, including a parade, live music, road run/walk, car show, food trucks, inflatables, bingo, and more.
PRIORITY:1
CLASS:PUBLIC
BEGIN:VALARM
TZOFFSETTO:-0600
ACTION:DISPLAY
DESCRIPTION:Reminder
END:VALARM
END:VEVENT
END:VCALENDAR
