BEGIN:VCALENDAR
VERSION:2.0
METHOD:PUBLISH
BEGIN:VEVENT
DTSTART:20260801T173000
DTEND:20260801T203000
LOCATION:Mobridge Rodeo Grounds
TRANSP: OPAQUE
SEQUENCE:0
UID:
DTSTAMP:20260419T121915
SUMMARY:Mobridge Demolition Derby
DESCRIPTION:The 3rd Annual Mobridge Demolition Derby is tearing up the dirt at the Mobridge Rodeo Grounds this August! Details to come.
PRIORITY:1
CLASS:PUBLIC
BEGIN:VALARM
TZOFFSETTO:-0600
ACTION:DISPLAY
DESCRIPTION:Reminder
END:VALARM
END:VEVENT
END:VCALENDAR
