BEGIN:VCALENDAR
VERSION:2.0
METHOD:PUBLISH
BEGIN:VEVENT
DTSTART:20260912T090000
DTEND:20260913T150000
LOCATION:Mobridge, SD
TRANSP: OPAQUE
SEQUENCE:0
UID:
DTSTAMP:20260419T114126
SUMMARY:Mobridge Fall Festival
DESCRIPTION:Formerly called "Beef N Fun", the Mobridge Fall Festival is a weekend of celebration, fun, food, games, and shows, including the 27th Annual Car, Truck, and Motorcycle Show, a Harvest Festival, flea market, raffle and the Dakota Territory Gun Collectors Gunshow.See the FULL SCHEDULE.
PRIORITY:1
CLASS:PUBLIC
BEGIN:VALARM
TZOFFSETTO:-0600
ACTION:DISPLAY
DESCRIPTION:Reminder
END:VALARM
END:VEVENT
END:VCALENDAR
