BEGIN:VCALENDAR
VERSION:2.0
METHOD:PUBLISH
BEGIN:VEVENT
DTSTART:20260115T050000
DTEND:20260117T210000
LOCATION:Mobridge, SD
TRANSP: OPAQUE
SEQUENCE:0
UID:
DTSTAMP:20260423T105757
SUMMARY:Mobridge Ice Fishing Tourney &amp; Expo
DESCRIPTION:OVER 25 YEARS OF TRADITIONThe 26th Annual Mobridge Ice Fishing Tournament will be on January 17, 2026.&nbsp;The Ice Expo will be on&nbsp;January 15&nbsp;and 16, 2026.Boasting over $250,000 in cash and prizes, 576 2-person teams hit the hardwater on Lake Oahe for one of the largest 1-day tournaments in the Nation!2026 Event held January 15-17thLearn more:&nbsp;https://mobridge.org/ice-fishing-tournament
PRIORITY:1
CLASS:PUBLIC
BEGIN:VALARM
TZOFFSETTO:-0600
ACTION:DISPLAY
DESCRIPTION:Reminder
END:VALARM
END:VEVENT
END:VCALENDAR
