BEGIN:VCALENDAR
VERSION:2.0
METHOD:PUBLISH
BEGIN:VEVENT
DTSTART:20260801T183000
DTEND:20260801T235600
LOCATION:Grey Goose Store &amp; Social Club
TRANSP: OPAQUE
SEQUENCE:0
UID:
DTSTAMP:20260419T114831
SUMMARY:OAHE BLUES FESTIVAL
DESCRIPTION:A Magical Milestone: Year 11!&nbsp;
Eleven years of music under the South Dakota sky.&nbsp;
We&rsquo;re feeling extra thankful today for everyone who makes the Oahe Blues Festival possible. To our backstage heroes, our front-of-house staff, and every single fan who has danced with us at the Grey Goose Store &amp; Social Club&mdash;this anniversary is for YOU.
Spread the word: August 1st, 2026 is the day.
Let&rsquo;s show the world that the BLUES is ALRIGHT!
PRIORITY:1
CLASS:PUBLIC
BEGIN:VALARM
TZOFFSETTO:-0600
ACTION:DISPLAY
DESCRIPTION:Reminder
END:VALARM
END:VEVENT
END:VCALENDAR
