BEGIN:VCALENDAR
VERSION:2.0
METHOD:PUBLISH
BEGIN:VEVENT
DTSTART:20261017T100000
DTEND:20270131T180000
LOCATION:South Dakota
TRANSP: OPAQUE
SEQUENCE:0
UID:
DTSTAMP:20260420T091903
SUMMARY:Pheasant Hunting Season
DESCRIPTION:Opening day of the pheasant hunting season in South Dakota is the third Saturday of October. The season then lasts October 18 to January 31 of the following year. Shooting hours are 10 a.m. (Central Time) to sunset for the entire season. (Central Time is used for opening shooting hours statewide.) Hunting licenses are required for both resident and non-resident hunters, including youth.&nbsp;Learn more on the South Dakota Game, Fish, and Parks Website.
PRIORITY:1
CLASS:PUBLIC
BEGIN:VALARM
TZOFFSETTO:-0600
ACTION:DISPLAY
DESCRIPTION:Reminder
END:VALARM
END:VEVENT
END:VCALENDAR
