BEGIN:VCALENDAR
VERSION:2.0
METHOD:PUBLISH
BEGIN:VEVENT
DTSTART:20260715T010000
DTEND:20260831T220000
LOCATION:South Dakota
TRANSP: OPAQUE
SEQUENCE:0
UID:
DTSTAMP:20260419T134520
SUMMARY:Rally Rush
DESCRIPTION:Rally Rush&nbsp;is a statewide celebration to welcome&nbsp;YOU&nbsp;riders as you make your way to the&nbsp;85th Sturgis Rally (August 7-August 16, 2026) the O-G of any bike rally! Learn more about this statewide event happening HERE!
PRIORITY:1
CLASS:PUBLIC
BEGIN:VALARM
TZOFFSETTO:-0600
ACTION:DISPLAY
DESCRIPTION:Reminder
END:VALARM
END:VEVENT
END:VCALENDAR
