BEGIN:VCALENDAR
VERSION:2.0
METHOD:PUBLISH
BEGIN:VEVENT
DTSTART:20250829T190000
DTEND:20250829T220000
LOCATION:Tripp County Fairgrounds
TRANSP: OPAQUE
SEQUENCE:0
UID:
DTSTAMP:20260419T094235
SUMMARY:Ranch Bronc Night
DESCRIPTION:
Ranch Bronc Night


🐴🔥 Get ready for Ranch Bronc Night! An unforgettable evening of thrills, spills, and wild rides as the toughest broncs take center stage. Don&rsquo;t miss the action! 🤠

PRIORITY:1
CLASS:PUBLIC
BEGIN:VALARM
TZOFFSETTO:-0600
ACTION:DISPLAY
DESCRIPTION:Reminder
END:VALARM
END:VEVENT
END:VCALENDAR
