BEGIN:VCALENDAR
VERSION:2.0
METHOD:PUBLISH
BEGIN:VEVENT
DTSTART:20260626T080000
DTEND:20260628T170000
LOCATION:I-90 Interstate Towns
TRANSP: OPAQUE
SEQUENCE:0
UID:
DTSTAMP:20260419T121705
SUMMARY:Scavenger&#039;s Journey
DESCRIPTION:South Dakota's largest treature hunt accross Interstate I-90!Scavenger's Journey leads you through several communities in Central South Dakota on Interstate 90, with a loop branching off on SD Hwy 45 and US Hwy 281. You'll find a treasure trove of goods and hospitality by visiting the vendors and businesses in our participating towns. This one-of-a-kind South Dakota event is brought to you by numerous volunteers and supporters in the towns who make it possible.New this year!We are condensing our route for a more intense "Journey" of fun! Start at Reliance and head east to Plankinton on I-90, then following a loop to the south to Lake Andes and up to Platte.&nbsp; This entire loop can be driven straight through in under 2.5 hours.&nbsp; Why does this matter? This means more shopping and less driving!
PRIORITY:1
CLASS:PUBLIC
BEGIN:VALARM
TZOFFSETTO:-0600
ACTION:DISPLAY
DESCRIPTION:Reminder
END:VALARM
END:VEVENT
END:VCALENDAR
