BEGIN:VCALENDAR
VERSION:2.0
METHOD:PUBLISH
BEGIN:VEVENT
DTSTART:20260814T120000
DTEND:20260816T210000
LOCATION:Stanley County Fairgrounds
TRANSP: OPAQUE
SEQUENCE:0
UID:
DTSTAMP:20260419T115138
SUMMARY:SD 4-H Finals Rodeo
DESCRIPTION:The 55th Annual SD 4H Finals Rodeo showcases the greatest horse-ridin' talent from across the state. Contestants heat up the dust of the ring for 3 days, displaying skill, courage, and teamwork through the traditions of Western ranching life.See Facebook for updates.
PRIORITY:1
CLASS:PUBLIC
BEGIN:VALARM
TZOFFSETTO:-0600
ACTION:DISPLAY
DESCRIPTION:Reminder
END:VALARM
END:VEVENT
END:VCALENDAR
